BEGIN:VCALENDAR
VERSION:2.0
PRODID:spatie/icalendar-generator
DESCRIPTION:Veranstaltungen von PSV Delphin 1889
X-WR-CALDESC:Veranstaltungen von PSV Delphin 1889
REFRESH-INTERVAL;VALUE=DURATION:PT1440M
X-PUBLISHED-TTL:PT1440M
BEGIN:VTIMEZONE
TZID:Europe/Berlin
BEGIN:STANDARD
DTSTART:20251026T030000Z
TZOFFSETFROM:+0200
TZOFFSETTO:+0100
END:STANDARD
BEGIN:DAYLIGHT
DTSTART:20260329T020000Z
TZOFFSETFROM:+0100
TZOFFSETTO:+0200
END:DAYLIGHT
BEGIN:STANDARD
DTSTART:20261025T030000Z
TZOFFSETFROM:+0200
TZOFFSETTO:+0100
END:STANDARD
END:VTIMEZONE
BEGIN:VTIMEZONE
TZID:UTC
BEGIN:STANDARD
DTSTART:20250726T191948Z
TZOFFSETFROM:+0000
TZOFFSETTO:+0000
END:STANDARD
END:VTIMEZONE
BEGIN:VEVENT
UID:117-80
DTSTAMP:20260422T191948Z
SUMMARY:Saisoneröffnung (Anbaden)
LOCATION:Vereinsheim Plötzensee Nordufer 26 im Strandbad Plötzensee Berli
 n  13351
ORGANIZER;CN=PSV Delphin:MAILTO:no_reply@psv-delphin.de
DTSTART;TZID=Europe/Berlin:20260502T120000
DTEND;TZID=Europe/Berlin:20260502T130000
X-ALT-DESC;FMTTYPE=TEXT/HTML:Wir treffen uns zum Anbaden in unserem Vereins
 heim am Plötzensee. Start ist gegen 12 Uhr und um 14 Uhr gibt es Kaffee u
 nd Kuchen. Kuchenspenden sind gerne gesehen. Unbedingt Badesachen mitbring
 en! Umkleiden sind im Vereinsheim Auch unsere Trainer werden anwesend sein
 \, sodass sich Eltern und Trainer auch mal über den Schwimmfortschritt de
 r Kinder informieren oder&amp;hellip\;
CATEGORIES:Vereinsveranstaltungen
URL;VALUE=URI:https://psv-delphin.de/events/saisoneroeffnung-anbaden/
METHOD:PUBLISH
END:VEVENT
END:VCALENDAR