BEGIN:VCALENDAR
VERSION:2.0
PRODID:spatie/icalendar-generator
DESCRIPTION:Veranstaltungen von PSV Delphin 1889
X-WR-CALDESC:Veranstaltungen von PSV Delphin 1889
REFRESH-INTERVAL;VALUE=DURATION:PT1440M
X-PUBLISHED-TTL:PT1440M
BEGIN:VTIMEZONE
TZID:Europe/Berlin
BEGIN:STANDARD
DTSTART:20251026T030000Z
TZOFFSETFROM:+0200
TZOFFSETTO:+0100
END:STANDARD
BEGIN:DAYLIGHT
DTSTART:20260329T020000Z
TZOFFSETFROM:+0100
TZOFFSETTO:+0200
END:DAYLIGHT
BEGIN:STANDARD
DTSTART:20261025T030000Z
TZOFFSETFROM:+0200
TZOFFSETTO:+0100
END:STANDARD
END:VTIMEZONE
BEGIN:VTIMEZONE
TZID:UTC
BEGIN:STANDARD
DTSTART:20250726T190835Z
TZOFFSETFROM:+0000
TZOFFSETTO:+0000
END:STANDARD
END:VTIMEZONE
BEGIN:VEVENT
UID:120-88
DTSTAMP:20260422T190835Z
SUMMARY:Defi de Monte-Cristo Marseille
LOCATION:
ORGANIZER;CN=PSV Delphin:MAILTO:no_reply@psv-delphin.de
DTSTART;TZID=Europe/Berlin;VALUE=DATE:20260613
DTEND;TZID=Europe/Berlin;VALUE=DATE:20260615
X-ALT-DESC;FMTTYPE=TEXT/HTML:Defi de Monte-Cristo Marseille https://defimon
 te-cristo.com/en 1km\, 2km\, 2.5km\, 3.5km\, 5km\, 6km
CATEGORIES:Freiwasser
URL;VALUE=URI:https://psv-delphin.de/events/defi-de-monte-cristo-marseille-
 4/
METHOD:PUBLISH
END:VEVENT
END:VCALENDAR