BEGIN:VCALENDAR
VERSION:2.0
PRODID:spatie/icalendar-generator
DESCRIPTION:Veranstaltungen von PSV Delphin 1889
X-WR-CALDESC:Veranstaltungen von PSV Delphin 1889
REFRESH-INTERVAL;VALUE=DURATION:PT1440M
X-PUBLISHED-TTL:PT1440M
BEGIN:VTIMEZONE
TZID:Europe/Berlin
BEGIN:DAYLIGHT
DTSTART:20250330T020000Z
TZOFFSETFROM:+0100
TZOFFSETTO:+0200
END:DAYLIGHT
BEGIN:STANDARD
DTSTART:20251026T030000Z
TZOFFSETFROM:+0200
TZOFFSETTO:+0100
END:STANDARD
BEGIN:DAYLIGHT
DTSTART:20260329T020000Z
TZOFFSETFROM:+0100
TZOFFSETTO:+0200
END:DAYLIGHT
END:VTIMEZONE
BEGIN:VTIMEZONE
TZID:UTC
BEGIN:STANDARD
DTSTART:20250727T004250Z
TZOFFSETFROM:+0000
TZOFFSETTO:+0000
END:STANDARD
END:VTIMEZONE
BEGIN:VEVENT
UID:13-11
DTSTAMP:20260423T004250Z
SUMMARY:Hauptausschusssitzung des Polizei-Sport-Vereins Berlin e.V.
LOCATION:
ORGANIZER;CN=JanW:MAILTO:jan.wierzoch@psv-delphin.de
DTSTART;TZID=Europe/Berlin:20251124T180000
DTEND;TZID=Europe/Berlin:20251124T190000
X-ALT-DESC;FMTTYPE=TEXT/HTML:
CATEGORIES:Vereinsveranstaltungen
URL;VALUE=URI:https://psv-delphin.de/events/hauptausschusssitzung-des-poliz
 ei-sport-vereins-berlin-e-v/
METHOD:PUBLISH
END:VEVENT
END:VCALENDAR