BEGIN:VCALENDAR
VERSION:2.0
PRODID:spatie/icalendar-generator
DESCRIPTION:Veranstaltungen von PSV Delphin 1889
X-WR-CALDESC:Veranstaltungen von PSV Delphin 1889
REFRESH-INTERVAL;VALUE=DURATION:PT1440M
X-PUBLISHED-TTL:PT1440M
BEGIN:VTIMEZONE
TZID:Europe/Berlin
BEGIN:DAYLIGHT
DTSTART:20260329T020000Z
TZOFFSETFROM:+0100
TZOFFSETTO:+0200
END:DAYLIGHT
BEGIN:STANDARD
DTSTART:20261025T030000Z
TZOFFSETFROM:+0200
TZOFFSETTO:+0100
END:STANDARD
END:VTIMEZONE
BEGIN:VTIMEZONE
TZID:UTC
BEGIN:STANDARD
DTSTART:20250727T100447Z
TZOFFSETFROM:+0000
TZOFFSETTO:+0000
END:STANDARD
END:VTIMEZONE
BEGIN:VEVENT
UID:155-109
DTSTAMP:20260423T100447Z
SUMMARY:Bosphorus Cross-Continental Swimming Race
LOCATION:
ORGANIZER;CN=PSV Delphin:MAILTO:no_reply@psv-delphin.de
DTSTART;TZID=Europe/Berlin;VALUE=DATE:20260823
DTEND;TZID=Europe/Berlin;VALUE=DATE:20260824
X-ALT-DESC;FMTTYPE=TEXT/HTML:Bosphorus Cross-Continental Swimming Race http
 s://bogazici.olimpiyat.org.tr/en 6 km
CATEGORIES:Freiwasser
URL;VALUE=URI:https://psv-delphin.de/events/bosphorus-cross-continental-swi
 mming-race-2/
METHOD:PUBLISH
END:VEVENT
END:VCALENDAR