BEGIN:VCALENDAR
VERSION:2.0
PRODID:spatie/icalendar-generator
DESCRIPTION:Veranstaltungen von PSV Delphin 1889
X-WR-CALDESC:Veranstaltungen von PSV Delphin 1889
REFRESH-INTERVAL;VALUE=DURATION:PT1440M
X-PUBLISHED-TTL:PT1440M
BEGIN:VTIMEZONE
TZID:Europe/Berlin
BEGIN:DAYLIGHT
DTSTART:20260329T020000Z
TZOFFSETFROM:+0100
TZOFFSETTO:+0200
END:DAYLIGHT
BEGIN:STANDARD
DTSTART:20261025T030000Z
TZOFFSETFROM:+0200
TZOFFSETTO:+0100
END:STANDARD
END:VTIMEZONE
BEGIN:VTIMEZONE
TZID:UTC
BEGIN:STANDARD
DTSTART:20250727T001150Z
TZOFFSETFROM:+0000
TZOFFSETTO:+0000
END:STANDARD
END:VTIMEZONE
BEGIN:VEVENT
UID:162-116
DTSTAMP:20260423T001150Z
SUMMARY:Internationale Deutsche Meisterschaften der Masters im Freiwassersc
 hwimmen
LOCATION:
ORGANIZER;CN=PSV Delphin:MAILTO:no_reply@psv-delphin.de
DTSTART;TZID=Europe/Berlin;VALUE=DATE:20260905
DTEND;TZID=Europe/Berlin;VALUE=DATE:20260907
X-ALT-DESC;FMTTYPE=TEXT/HTML:Internationale Deutsche Meisterschaften der Ma
 sters im Freiwasserschwimmen bisher noch keine Ausschreibung
CATEGORIES:Freiwasser
URL;VALUE=URI:https://psv-delphin.de/events/internationale-deutsche-meister
 schaften-der-masters-im-freiwasserschwimmen/
METHOD:PUBLISH
END:VEVENT
END:VCALENDAR