BEGIN:VCALENDAR
VERSION:2.0
PRODID:spatie/icalendar-generator
DESCRIPTION:Veranstaltungen von PSV Delphin 1889
X-WR-CALDESC:Veranstaltungen von PSV Delphin 1889
REFRESH-INTERVAL;VALUE=DURATION:PT1440M
X-PUBLISHED-TTL:PT1440M
BEGIN:VTIMEZONE
TZID:Europe/Berlin
BEGIN:DAYLIGHT
DTSTART:20260329T020000Z
TZOFFSETFROM:+0100
TZOFFSETTO:+0200
END:DAYLIGHT
BEGIN:STANDARD
DTSTART:20261025T030000Z
TZOFFSETFROM:+0200
TZOFFSETTO:+0100
END:STANDARD
END:VTIMEZONE
BEGIN:VTIMEZONE
TZID:UTC
BEGIN:STANDARD
DTSTART:20250726T191341Z
TZOFFSETFROM:+0000
TZOFFSETTO:+0000
END:STANDARD
END:VTIMEZONE
BEGIN:VEVENT
UID:165-119
DTSTAMP:20260422T191341Z
SUMMARY:EDF Aqua Challenge Nizza
LOCATION:
ORGANIZER;CN=PSV Delphin:MAILTO:no_reply@psv-delphin.de
DTSTART;TZID=Europe/Berlin;VALUE=DATE:20260919
DTEND;TZID=Europe/Berlin;VALUE=DATE:20260921
X-ALT-DESC;FMTTYPE=TEXT/HTML:EDF Aqua Challenge Nizza https://promswim.com/
  1 km\, 2 km\, 5 km\, 10 km\, 3x 3.3 km Staffel
CATEGORIES:Freiwasser
URL;VALUE=URI:https://psv-delphin.de/events/edf-aqua-challenge-nizza/
METHOD:PUBLISH
END:VEVENT
END:VCALENDAR