BEGIN:VCALENDAR
VERSION:2.0
PRODID:spatie/icalendar-generator
DESCRIPTION:Veranstaltungen von PSV Delphin 1889
X-WR-CALDESC:Veranstaltungen von PSV Delphin 1889
REFRESH-INTERVAL;VALUE=DURATION:PT1440M
X-PUBLISHED-TTL:PT1440M
BEGIN:VTIMEZONE
TZID:Europe/Berlin
BEGIN:STANDARD
DTSTART:20241027T030000Z
TZOFFSETFROM:+0200
TZOFFSETTO:+0100
END:STANDARD
BEGIN:DAYLIGHT
DTSTART:20250330T020000Z
TZOFFSETFROM:+0100
TZOFFSETTO:+0200
END:DAYLIGHT
BEGIN:STANDARD
DTSTART:20251026T030000Z
TZOFFSETFROM:+0200
TZOFFSETTO:+0100
END:STANDARD
END:VTIMEZONE
BEGIN:VTIMEZONE
TZID:UTC
BEGIN:STANDARD
DTSTART:20250726T091252Z
TZOFFSETFROM:+0000
TZOFFSETTO:+0000
END:STANDARD
END:VTIMEZONE
BEGIN:VEVENT
UID:47-44
DTSTAMP:20260422T091252Z
SUMMARY:Tollenseseeschwimmen
LOCATION:
ORGANIZER;CN=JanW:MAILTO:jan.wierzoch@psv-delphin.de
DTSTART;TZID=Europe/Berlin;VALUE=DATE:20250628
DTEND;TZID=Europe/Berlin;VALUE=DATE:20250629
X-ALT-DESC;FMTTYPE=TEXT/HTML:https://tollenseseeschwimmen.de (Homepage noch
  nicht aktualisiert\; Anmeldung unter http://my.raceresult.com/318579/info
  möglich) 400m &amp;amp\; 2.3km
CATEGORIES:Freiwasser
URL;VALUE=URI:https://psv-delphin.de/events/tollenseseeschwimmen/
METHOD:PUBLISH
END:VEVENT
END:VCALENDAR