BEGIN:VCALENDAR
VERSION:2.0
PRODID:spatie/icalendar-generator
DESCRIPTION:Veranstaltungen von PSV Delphin 1889
X-WR-CALDESC:Veranstaltungen von PSV Delphin 1889
REFRESH-INTERVAL;VALUE=DURATION:PT1440M
X-PUBLISHED-TTL:PT1440M
BEGIN:VTIMEZONE
TZID:Europe/Berlin
BEGIN:STANDARD
DTSTART:20251026T030000Z
TZOFFSETFROM:+0200
TZOFFSETTO:+0100
END:STANDARD
BEGIN:DAYLIGHT
DTSTART:20260329T020000Z
TZOFFSETFROM:+0100
TZOFFSETTO:+0200
END:DAYLIGHT
END:VTIMEZONE
BEGIN:VTIMEZONE
TZID:UTC
BEGIN:STANDARD
DTSTART:20250726T122342Z
TZOFFSETFROM:+0000
TZOFFSETTO:+0000
END:STANDARD
END:VTIMEZONE
BEGIN:VEVENT
UID:85-76
DTSTAMP:20260422T122342Z
SUMMARY:Jahreshauptversammlung 2026
LOCATION:Evangelische Andreas-Kirchengemeinde Finsterwalder Str. 66-68  Ber
 lin  13435
ORGANIZER;CN=JanW:MAILTO:jan.wierzoch@psv-delphin.de
DTSTART;TZID=Europe/Berlin:20260214T150000
DTEND;TZID=Europe/Berlin:20260214T170000
X-ALT-DESC;FMTTYPE=TEXT/HTML:Liebe Vereinsmitglieder\, um möglichst viele 
 Vereinsmitglieder zu unserer nächsten Jahreshauptversammlung begrüßen z
 u können\, möchten wir Euch bereits jetzt über den Termin informieren: 
 Samstag\, den 14.02.2026 um 15.00 Uhr Evangelische Andreas-Kirchengemeinde
 \, Finsterwalder Str. 66-68\,13435 Berlin Erstmals wahlberechtigt sind die
  Mitglieder des Jahrgangs 2009.
CATEGORIES:Vereinsveranstaltungen,  Organisation,  Intern
URL;VALUE=URI:https://psv-delphin.de/events/jahreshauptversammlung-2026/
METHOD:PUBLISH
END:VEVENT
END:VCALENDAR