BEGIN:VCALENDAR
VERSION:2.0
PRODID:spatie/icalendar-generator
DESCRIPTION:Veranstaltungen von PSV Delphin 1889
X-WR-CALDESC:Veranstaltungen von PSV Delphin 1889
REFRESH-INTERVAL;VALUE=DURATION:PT1440M
X-PUBLISHED-TTL:PT1440M
BEGIN:VTIMEZONE
TZID:Europe/Berlin
BEGIN:DAYLIGHT
DTSTART:20260329T020000Z
TZOFFSETFROM:+0100
TZOFFSETTO:+0200
END:DAYLIGHT
BEGIN:STANDARD
DTSTART:20261025T030000Z
TZOFFSETFROM:+0200
TZOFFSETTO:+0100
END:STANDARD
END:VTIMEZONE
BEGIN:VTIMEZONE
TZID:UTC
BEGIN:STANDARD
DTSTART:20250726T224219Z
TZOFFSETFROM:+0000
TZOFFSETTO:+0000
END:STANDARD
END:VTIMEZONE
BEGIN:VEVENT
UID:112-85
DTSTAMP:20260422T224219Z
SUMMARY:Duathlon
LOCATION:Vereinsheim Plötzensee Nordufer 26 im Strandbad Plötzensee Berli
 n  13351
ORGANIZER;CN=PSV Delphin:MAILTO:no_reply@psv-delphin.de
DTSTART;TZID=Europe/Berlin;VALUE=DATE:20260913
DTEND;TZID=Europe/Berlin;VALUE=DATE:20260914
X-ALT-DESC;FMTTYPE=TEXT/HTML:Wir veranstalten unseren Jährlichen Duathlon!
  Mehr Infos folgen demnächst!
CATEGORIES:Kinder und Jugendliche
URL;VALUE=URI:https://psv-delphin.de/events/duathlon/
METHOD:PUBLISH
END:VEVENT
END:VCALENDAR