BEGIN:VCALENDAR
VERSION:2.0
PRODID:spatie/icalendar-generator
DESCRIPTION:Veranstaltungen von PSV Delphin 1889
X-WR-CALDESC:Veranstaltungen von PSV Delphin 1889
REFRESH-INTERVAL;VALUE=DURATION:PT1440M
X-PUBLISHED-TTL:PT1440M
BEGIN:VTIMEZONE
TZID:Europe/Berlin
BEGIN:STANDARD
DTSTART:20251026T030000Z
TZOFFSETFROM:+0200
TZOFFSETTO:+0100
END:STANDARD
BEGIN:DAYLIGHT
DTSTART:20260329T020000Z
TZOFFSETFROM:+0100
TZOFFSETTO:+0200
END:DAYLIGHT
END:VTIMEZONE
BEGIN:VTIMEZONE
TZID:UTC
BEGIN:STANDARD
DTSTART:20250727T152817Z
TZOFFSETFROM:+0000
TZOFFSETTO:+0000
END:STANDARD
END:VTIMEZONE
BEGIN:VEVENT
UID:115-79
DTSTAMP:20260423T152817Z
SUMMARY:Ostereier Suche
LOCATION:Vereinsheim Plötzensee Nordufer 26 im Strandbad Plötzensee Berli
 n  13351
ORGANIZER;CN=PSV Delphin:MAILTO:no_reply@psv-delphin.de
DTSTART;TZID=Europe/Berlin:20260406T093000
DTEND;TZID=Europe/Berlin:20260406T120000
X-ALT-DESC;FMTTYPE=TEXT/HTML:Wie jedes Jahr findet unsere traditionelle Ost
 ereiersuche für unsere Kinder und Jugendlichen statt. Treffpunkt: Transva
 alstr. / Afrikanische Str. Uhrzeit: 09:30 - 12:00 Uhr Ende ist auf dem Ver
 einsgelände am Plötzensee. Gern könnt Ihr dort auch nach dem Ende bleib
 en. Anmeldungen bis zum 04.04. an jugendwarte@psv-delphin.de.
CATEGORIES:Kinder und Jugendliche
URL;VALUE=URI:https://psv-delphin.de/events/ostereier-suche/
METHOD:PUBLISH
END:VEVENT
END:VCALENDAR