BEGIN:VCALENDAR
VERSION:2.0
PRODID:spatie/icalendar-generator
DESCRIPTION:Veranstaltungen von PSV Delphin 1889
X-WR-CALDESC:Veranstaltungen von PSV Delphin 1889
REFRESH-INTERVAL;VALUE=DURATION:PT1440M
X-PUBLISHED-TTL:PT1440M
BEGIN:VTIMEZONE
TZID:Europe/Berlin
BEGIN:STANDARD
DTSTART:20251026T030000Z
TZOFFSETFROM:+0200
TZOFFSETTO:+0100
END:STANDARD
BEGIN:DAYLIGHT
DTSTART:20260329T020000Z
TZOFFSETFROM:+0100
TZOFFSETTO:+0200
END:DAYLIGHT
BEGIN:STANDARD
DTSTART:20261025T030000Z
TZOFFSETFROM:+0200
TZOFFSETTO:+0100
END:STANDARD
END:VTIMEZONE
BEGIN:VTIMEZONE
TZID:UTC
BEGIN:STANDARD
DTSTART:20250726T212358Z
TZOFFSETFROM:+0000
TZOFFSETTO:+0000
END:STANDARD
END:VTIMEZONE
BEGIN:VEVENT
UID:116-81
DTSTAMP:20260422T212358Z
SUMMARY:Wasserski
LOCATION:
ORGANIZER;CN=PSV Delphin:MAILTO:no_reply@psv-delphin.de
DTSTART;TZID=Europe/Berlin;VALUE=DATE:20260530
DTEND;TZID=Europe/Berlin;VALUE=DATE:20260531
X-ALT-DESC;FMTTYPE=TEXT/HTML:Für unsere Kinder und Jugendlichen geht es zu
 m Wasserski fahren. Informationen habt Ihr persönlich von den Jugendwarte
 n bekommen. Bei Fragen sendet sonst eine Mail an jugendwarte@psv-delphin.d
 e
CATEGORIES:Kinder und Jugendliche
URL;VALUE=URI:https://psv-delphin.de/events/wasserski/
METHOD:PUBLISH
END:VEVENT
END:VCALENDAR