BEGIN:VCALENDAR
VERSION:2.0
PRODID:spatie/icalendar-generator
DESCRIPTION:Veranstaltungen von PSV Delphin 1889
X-WR-CALDESC:Veranstaltungen von PSV Delphin 1889
REFRESH-INTERVAL;VALUE=DURATION:PT1440M
X-PUBLISHED-TTL:PT1440M
BEGIN:VTIMEZONE
TZID:Europe/Berlin
BEGIN:DAYLIGHT
DTSTART:20260329T020000Z
TZOFFSETFROM:+0100
TZOFFSETTO:+0200
END:DAYLIGHT
BEGIN:STANDARD
DTSTART:20261025T030000Z
TZOFFSETFROM:+0200
TZOFFSETTO:+0100
END:STANDARD
END:VTIMEZONE
BEGIN:VTIMEZONE
TZID:UTC
BEGIN:STANDARD
DTSTART:20250727T040454Z
TZOFFSETFROM:+0000
TZOFFSETTO:+0000
END:STANDARD
END:VTIMEZONE
BEGIN:VEVENT
UID:160-114
DTSTAMP:20260423T040454Z
SUMMARY:Wörthersee Swim
LOCATION:
ORGANIZER;CN=PSV Delphin:MAILTO:no_reply@psv-delphin.de
DTSTART;TZID=Europe/Berlin;VALUE=DATE:20260904
DTEND;TZID=Europe/Berlin;VALUE=DATE:20260906
X-ALT-DESC;FMTTYPE=TEXT/HTML:Wörthersee Swim https://woerthersee-swim.com/
 woerthersee-swim-event/ 1.5 km\, 3 km\, 5 km\, 10 km\, 17 km\, 34 km\, 1 k
 m Schmett\, 3x 1 km Staffel
CATEGORIES:Freiwasser
URL;VALUE=URI:https://psv-delphin.de/events/woerthersee-swim-2/
METHOD:PUBLISH
END:VEVENT
END:VCALENDAR