BEGIN:VCALENDAR
VERSION:2.0
PRODID:spatie/icalendar-generator
DESCRIPTION:Veranstaltungen von PSV Delphin 1889
X-WR-CALDESC:Veranstaltungen von PSV Delphin 1889
REFRESH-INTERVAL;VALUE=DURATION:PT1440M
X-PUBLISHED-TTL:PT1440M
BEGIN:VTIMEZONE
TZID:Europe/Berlin
BEGIN:STANDARD
DTSTART:20251026T030000Z
TZOFFSETFROM:+0200
TZOFFSETTO:+0100
END:STANDARD
BEGIN:DAYLIGHT
DTSTART:20260329T020000Z
TZOFFSETFROM:+0100
TZOFFSETTO:+0200
END:DAYLIGHT
BEGIN:STANDARD
DTSTART:20261025T030000Z
TZOFFSETFROM:+0200
TZOFFSETTO:+0100
END:STANDARD
END:VTIMEZONE
BEGIN:VTIMEZONE
TZID:UTC
BEGIN:STANDARD
DTSTART:20250726T191239Z
TZOFFSETFROM:+0000
TZOFFSETTO:+0000
END:STANDARD
END:VTIMEZONE
BEGIN:VEVENT
UID:166-120
DTSTAMP:20260422T191239Z
SUMMARY:Freiwasser Saisonbeginn
LOCATION:Vereinsheim Plötzensee Nordufer 26 im Strandbad Plötzensee Berli
 n  13351
ORGANIZER;CN=PSV Delphin:MAILTO:no_reply@psv-delphin.de
DTSTART;TZID=Europe/Berlin:20260531T110000
DTEND;TZID=Europe/Berlin:20260531T120000
X-ALT-DESC;FMTTYPE=TEXT/HTML:Bei dem Treffen habt ihr die Möglichkeit unse
 r Vereinsgelände\, die Trainingsmöglichkeiten und andere Freiwasserschwi
 mmer kennenzulernen\, Wettkampfmöglichkeiten auszutauschen und auch einen
  ersten Sprung ins Wasser zu wagen. Falls ihr ins Wasser gehen möchtet\, 
 denkt bitte daran\, Euch eine Boje oder Restube zur Eigensicherung mitzubr
 ingen. Umkleiden sind vorhanden und selbstverständlich könnt Ihr auch im
  Neo schwimmen. Treffpunkt:&amp;hellip\;
CATEGORIES:Vereinsveranstaltungen,  Freiwasser
URL;VALUE=URI:https://psv-delphin.de/events/freiwasser-saisonbeginn/
METHOD:PUBLISH
END:VEVENT
END:VCALENDAR