BEGIN:VCALENDAR
VERSION:2.0
PRODID:spatie/icalendar-generator
DESCRIPTION:Veranstaltungen von PSV Delphin 1889
X-WR-CALDESC:Veranstaltungen von PSV Delphin 1889
REFRESH-INTERVAL;VALUE=DURATION:PT1440M
X-PUBLISHED-TTL:PT1440M
BEGIN:VTIMEZONE
TZID:Europe/Berlin
BEGIN:DAYLIGHT
DTSTART:20260329T020000Z
TZOFFSETFROM:+0100
TZOFFSETTO:+0200
END:DAYLIGHT
BEGIN:STANDARD
DTSTART:20261025T030000Z
TZOFFSETFROM:+0200
TZOFFSETTO:+0100
END:STANDARD
BEGIN:DAYLIGHT
DTSTART:20270328T020000Z
TZOFFSETFROM:+0100
TZOFFSETTO:+0200
END:DAYLIGHT
END:VTIMEZONE
BEGIN:VTIMEZONE
TZID:UTC
BEGIN:STANDARD
DTSTART:20250726T134513Z
TZOFFSETFROM:+0000
TZOFFSETTO:+0000
END:STANDARD
END:VTIMEZONE
BEGIN:VEVENT
UID:175-126
DTSTAMP:20260422T134513Z
SUMMARY:DMS Masters Landesentscheid
LOCATION:Schwimm- und Sprunghalle im Europasportpark (SSE) Paul-Heyse-Stra
 ße 26  Berlin  10407
ORGANIZER;CN=PSV Delphin:MAILTO:no_reply@psv-delphin.de
DTSTART;TZID=Europe/Berlin;VALUE=DATE:20261011
DTEND;TZID=Europe/Berlin;VALUE=DATE:20261012
X-ALT-DESC;FMTTYPE=TEXT/HTML:https://schwimmen.berlin/veranstaltungen/dmsm2
 025
CATEGORIES:Masters
URL;VALUE=URI:https://psv-delphin.de/events/dms-masters-landesentscheid/
METHOD:PUBLISH
END:VEVENT
END:VCALENDAR