BEGIN:VCALENDAR
VERSION:2.0
PRODID:spatie/icalendar-generator
DESCRIPTION:Veranstaltungen von PSV Delphin 1889
X-WR-CALDESC:Veranstaltungen von PSV Delphin 1889
REFRESH-INTERVAL;VALUE=DURATION:PT1440M
X-PUBLISHED-TTL:PT1440M
BEGIN:VTIMEZONE
TZID:Europe/Berlin
BEGIN:DAYLIGHT
DTSTART:20260329T020000Z
TZOFFSETFROM:+0100
TZOFFSETTO:+0200
END:DAYLIGHT
BEGIN:STANDARD
DTSTART:20261025T030000Z
TZOFFSETFROM:+0200
TZOFFSETTO:+0100
END:STANDARD
BEGIN:DAYLIGHT
DTSTART:20270328T020000Z
TZOFFSETFROM:+0100
TZOFFSETTO:+0200
END:DAYLIGHT
END:VTIMEZONE
BEGIN:VTIMEZONE
TZID:UTC
BEGIN:STANDARD
DTSTART:20250726T172754Z
TZOFFSETFROM:+0000
TZOFFSETTO:+0000
END:STANDARD
END:VTIMEZONE
BEGIN:VEVENT
UID:180-131
DTSTAMP:20260422T172754Z
SUMMARY:Vereinsmeisterschaften / Weihnachtsschwimmen
LOCATION:Kombibad Seestraße Seestraße 80  Berlin  13347
ORGANIZER;CN=PSV Delphin:MAILTO:no_reply@psv-delphin.de
DTSTART;TZID=Europe/Berlin;VALUE=DATE:20261213
DTEND;TZID=Europe/Berlin;VALUE=DATE:20261214
X-ALT-DESC;FMTTYPE=TEXT/HTML:Weitere Informationen folgen!
CATEGORIES:Vereinsveranstaltungen
URL;VALUE=URI:https://psv-delphin.de/events/vereinsmeisterschaften-weihnach
 tsschwimmen/
METHOD:PUBLISH
END:VEVENT
END:VCALENDAR